BEGIN:VCALENDAR
VERSION:2.0
PRODID:-//TSV Victoria Linden e.V. - Hannover - ECPv6.15.20//NONSGML v1.0//EN
CALSCALE:GREGORIAN
METHOD:PUBLISH
X-WR-CALNAME:TSV Victoria Linden e.V. - Hannover
X-ORIGINAL-URL:https://victoria-linden.de
X-WR-CALDESC:Veranstaltungen für TSV Victoria Linden e.V. - Hannover
REFRESH-INTERVAL;VALUE=DURATION:PT1H
X-Robots-Tag:noindex
X-PUBLISHED-TTL:PT1H
BEGIN:VTIMEZONE
TZID:Europe/Berlin
BEGIN:DAYLIGHT
TZOFFSETFROM:+0100
TZOFFSETTO:+0200
TZNAME:CEST
DTSTART:20230326T010000
END:DAYLIGHT
BEGIN:STANDARD
TZOFFSETFROM:+0200
TZOFFSETTO:+0100
TZNAME:CET
DTSTART:20231029T010000
END:STANDARD
BEGIN:DAYLIGHT
TZOFFSETFROM:+0100
TZOFFSETTO:+0200
TZNAME:CEST
DTSTART:20240331T010000
END:DAYLIGHT
BEGIN:STANDARD
TZOFFSETFROM:+0200
TZOFFSETTO:+0100
TZNAME:CET
DTSTART:20241027T010000
END:STANDARD
BEGIN:DAYLIGHT
TZOFFSETFROM:+0100
TZOFFSETTO:+0200
TZNAME:CEST
DTSTART:20250330T010000
END:DAYLIGHT
BEGIN:STANDARD
TZOFFSETFROM:+0200
TZOFFSETTO:+0100
TZNAME:CET
DTSTART:20251026T010000
END:STANDARD
END:VTIMEZONE
BEGIN:VEVENT
DTSTART;TZID=Europe/Berlin:20240303T130000
DTEND;TZID=Europe/Berlin:20240303T143000
DTSTAMP:20260422T212927
CREATED:20240305T103639Z
LAST-MODIFIED:20240305T104332Z
UID:10000083-1709470800-1709476200@victoria-linden.de
SUMMARY:Rugby U18: SG Heidelberger RK / RK Heusenstamm / RC Worms  --  SG Hannover Nord United
DESCRIPTION:
URL:https://victoria-linden.de/termin/rugby-u18-sg-heidelberger-rk-rk-heusenstamm-rc-worms-sg-hannover-nord-united/
LOCATION:Heidelberger RK\, Neuenheimer Landstr. 3a\, Heidelberg\, 69120\, Deutschland
CATEGORIES:Rugby – U18
ATTACH;FMTTYPE=image/jpeg:https://victoria-linden.de/wp-content/uploads/2024/02/2311xx-U18-web.jpg
ORGANIZER;CN="Rugby Deutschland":MAILTO:office@rugbydeutschland.org
END:VEVENT
END:VCALENDAR