BEGIN:VCALENDAR
VERSION:2.0
PRODID:-//TSV Victoria Linden e.V. - Hannover - ECPv6.15.20//NONSGML v1.0//EN
CALSCALE:GREGORIAN
METHOD:PUBLISH
X-ORIGINAL-URL:https://victoria-linden.de
X-WR-CALDESC:Veranstaltungen für TSV Victoria Linden e.V. - Hannover
REFRESH-INTERVAL;VALUE=DURATION:PT1H
X-Robots-Tag:noindex
X-PUBLISHED-TTL:PT1H
BEGIN:VTIMEZONE
TZID:Europe/Berlin
BEGIN:DAYLIGHT
TZOFFSETFROM:+0100
TZOFFSETTO:+0200
TZNAME:CEST
DTSTART:20240331T010000
END:DAYLIGHT
BEGIN:STANDARD
TZOFFSETFROM:+0200
TZOFFSETTO:+0100
TZNAME:CET
DTSTART:20241027T010000
END:STANDARD
BEGIN:DAYLIGHT
TZOFFSETFROM:+0100
TZOFFSETTO:+0200
TZNAME:CEST
DTSTART:20250330T010000
END:DAYLIGHT
BEGIN:STANDARD
TZOFFSETFROM:+0200
TZOFFSETTO:+0100
TZNAME:CET
DTSTART:20251026T010000
END:STANDARD
BEGIN:DAYLIGHT
TZOFFSETFROM:+0100
TZOFFSETTO:+0200
TZNAME:CEST
DTSTART:20260329T010000
END:DAYLIGHT
BEGIN:STANDARD
TZOFFSETFROM:+0200
TZOFFSETTO:+0100
TZNAME:CET
DTSTART:20261025T010000
END:STANDARD
END:VTIMEZONE
BEGIN:VEVENT
DTSTART;TZID=Europe/Berlin:20250426T130000
DTEND;TZID=Europe/Berlin:20250426T143000
DTSTAMP:20260419T222735
CREATED:20250421T193128Z
LAST-MODIFIED:20250421T193150Z
UID:10000167-1745672400-1745677800@victoria-linden.de
SUMMARY:Rugby U18: VfR Döhren - SG Hannover Nord United
DESCRIPTION:Am Sonnabend den 26. April 2025 spielt die U18-SG Hannover Nord United auswärts gegen den VfR Döhren. Ankick ist um 13.00 Uhr.
URL:https://victoria-linden.de/termin/rugby-u18-vfr-doehren-sg-hannover-nord-united/
LOCATION:VfR Döhren\, Gustav-Brandt-Straße 82\, Hannover\, 30519\, Deutschland
CATEGORIES:Rugby – U10
ATTACH;FMTTYPE=image/jpeg:https://victoria-linden.de/wp-content/uploads/2024/02/2311xx-U18-web.jpg
ORGANIZER;CN="Rugby Deutschland":MAILTO:office@rugbydeutschland.org
END:VEVENT
END:VCALENDAR