BEGIN:VCALENDAR
VERSION:2.0
PRODID:-//TSV Victoria Linden e.V. - Hannover - ECPv6.15.20//NONSGML v1.0//EN
CALSCALE:GREGORIAN
METHOD:PUBLISH
X-WR-CALNAME:TSV Victoria Linden e.V. - Hannover
X-ORIGINAL-URL:https://victoria-linden.de
X-WR-CALDESC:Veranstaltungen für TSV Victoria Linden e.V. - Hannover
REFRESH-INTERVAL;VALUE=DURATION:PT1H
X-Robots-Tag:noindex
X-PUBLISHED-TTL:PT1H
BEGIN:VTIMEZONE
TZID:Europe/Berlin
BEGIN:DAYLIGHT
TZOFFSETFROM:+0100
TZOFFSETTO:+0200
TZNAME:CEST
DTSTART:20240331T010000
END:DAYLIGHT
BEGIN:STANDARD
TZOFFSETFROM:+0200
TZOFFSETTO:+0100
TZNAME:CET
DTSTART:20241027T010000
END:STANDARD
BEGIN:DAYLIGHT
TZOFFSETFROM:+0100
TZOFFSETTO:+0200
TZNAME:CEST
DTSTART:20250330T010000
END:DAYLIGHT
BEGIN:STANDARD
TZOFFSETFROM:+0200
TZOFFSETTO:+0100
TZNAME:CET
DTSTART:20251026T010000
END:STANDARD
BEGIN:DAYLIGHT
TZOFFSETFROM:+0100
TZOFFSETTO:+0200
TZNAME:CEST
DTSTART:20260329T010000
END:DAYLIGHT
BEGIN:STANDARD
TZOFFSETFROM:+0200
TZOFFSETTO:+0100
TZNAME:CET
DTSTART:20261025T010000
END:STANDARD
END:VTIMEZONE
BEGIN:VEVENT
DTSTART;TZID=Europe/Berlin:20250503T130000
DTEND;TZID=Europe/Berlin:20250503T143000
DTSTAMP:20260419T205400
CREATED:20250421T194047Z
LAST-MODIFIED:20250421T194047Z
UID:10000168-1746277200-1746282600@victoria-linden.de
SUMMARY:Rugby U18: SG Hannover Nord United - Berliner Rugby Club
DESCRIPTION:Am Sonnabend den 3. Mai 2025 spielt die U18-SG Hannover Nord United im Viertelfinale um die Deutsche Meisterschaft. Noch ist nicht klar\, wer der Gegner sein wird und auch noch nicht\, ob es ein Heimspiel auf den Platz vm TSV Victoria Linden oder ein Auswärtsspiel sein wird. Ankick ist wahrscheinlich um 13.00 Uhr.
URL:https://victoria-linden.de/termin/rugby-u18-sg-hannover-nord-united-berliner-rugby-club-2/
LOCATION:Sportplatz TSV Victoria-Linden e.V.\, Fösseweg 5\, Hannover\, Niedersachsen\, 30453\, Deutschland
CATEGORIES:Rugby – U10
ATTACH;FMTTYPE=image/jpeg:https://victoria-linden.de/wp-content/uploads/2024/02/2311xx-U18-web.jpg
ORGANIZER;CN="Rugby Deutschland":MAILTO:office@rugbydeutschland.org
END:VEVENT
END:VCALENDAR