BEGIN:VCALENDAR
VERSION:2.0
PRODID:-//TSV Victoria Linden e.V. - Hannover - ECPv6.15.20//NONSGML v1.0//EN
CALSCALE:GREGORIAN
METHOD:PUBLISH
X-ORIGINAL-URL:https://victoria-linden.de
X-WR-CALDESC:Veranstaltungen für TSV Victoria Linden e.V. - Hannover
REFRESH-INTERVAL;VALUE=DURATION:PT1H
X-Robots-Tag:noindex
X-PUBLISHED-TTL:PT1H
BEGIN:VTIMEZONE
TZID:Europe/Berlin
BEGIN:DAYLIGHT
TZOFFSETFROM:+0100
TZOFFSETTO:+0200
TZNAME:CEST
DTSTART:20230326T010000
END:DAYLIGHT
BEGIN:STANDARD
TZOFFSETFROM:+0200
TZOFFSETTO:+0100
TZNAME:CET
DTSTART:20231029T010000
END:STANDARD
BEGIN:DAYLIGHT
TZOFFSETFROM:+0100
TZOFFSETTO:+0200
TZNAME:CEST
DTSTART:20240331T010000
END:DAYLIGHT
BEGIN:STANDARD
TZOFFSETFROM:+0200
TZOFFSETTO:+0100
TZNAME:CET
DTSTART:20241027T010000
END:STANDARD
BEGIN:DAYLIGHT
TZOFFSETFROM:+0100
TZOFFSETTO:+0200
TZNAME:CEST
DTSTART:20250330T010000
END:DAYLIGHT
BEGIN:STANDARD
TZOFFSETFROM:+0200
TZOFFSETTO:+0100
TZNAME:CET
DTSTART:20251026T010000
END:STANDARD
BEGIN:DAYLIGHT
TZOFFSETFROM:+0100
TZOFFSETTO:+0200
TZNAME:CEST
DTSTART:20260329T010000
END:DAYLIGHT
BEGIN:STANDARD
TZOFFSETFROM:+0200
TZOFFSETTO:+0100
TZNAME:CET
DTSTART:20261025T010000
END:STANDARD
BEGIN:DAYLIGHT
TZOFFSETFROM:+0100
TZOFFSETTO:+0200
TZNAME:CEST
DTSTART:20270328T010000
END:DAYLIGHT
BEGIN:STANDARD
TZOFFSETFROM:+0200
TZOFFSETTO:+0100
TZNAME:CET
DTSTART:20271031T010000
END:STANDARD
END:VTIMEZONE
BEGIN:VEVENT
DTSTART;TZID=Europe/Berlin:20260118T100000
DTEND;TZID=Europe/Berlin:20260118T172000
DTSTAMP:20260424T190607
CREATED:20251116T161124Z
LAST-MODIFIED:20251116T161124Z
UID:10000205-1768730400-1768756800@victoria-linden.de
SUMMARY:Bezirksliga Hannover Süd
DESCRIPTION:Spieltag Damen 18
URL:https://victoria-linden.de/termin/bezirksliga-hannover-sued-25/
LOCATION:IGS Stöcken\, Eichsfelder Straße 38\, Hannover\, 30419
CATEGORIES:Korbball
ATTACH;FMTTYPE=image/jpeg:https://victoria-linden.de/wp-content/uploads/2025/11/Damen-II.jpg
END:VEVENT
BEGIN:VEVENT
DTSTART;TZID=Europe/Berlin:20260117T130000
DTEND;TZID=Europe/Berlin:20260117T174000
DTSTAMP:20260424T190607
CREATED:20251116T160856Z
LAST-MODIFIED:20251116T160856Z
UID:10000204-1768654800-1768671600@victoria-linden.de
SUMMARY:Bezirksliga Hannover Süd
DESCRIPTION:Spieltag Jugend 14/15
URL:https://victoria-linden.de/termin/bezirksliga-hannover-sued-24/
LOCATION:SV Gehrden\, Lange Feldstraße 17\, Gehrden\, 30989
CATEGORIES:Korbball
ATTACH;FMTTYPE=image/jpeg:https://victoria-linden.de/wp-content/uploads/2025/11/J-14-15.jpg
END:VEVENT
BEGIN:VEVENT
DTSTART;TZID=Europe/Berlin:20260117T130000
DTEND;TZID=Europe/Berlin:20260117T173000
DTSTAMP:20260424T190607
CREATED:20251116T160632Z
LAST-MODIFIED:20251116T160632Z
UID:10000203-1768654800-1768671000@victoria-linden.de
SUMMARY:Bezirksliga Hannover Süd
DESCRIPTION:Spieltag Jugend 10/11
URL:https://victoria-linden.de/termin/bezirksliga-hannover-sued-23/
LOCATION:IGS Stöcken\, Eichsfelder Straße 38\, Hannover\, 30419
CATEGORIES:Korbball
ATTACH;FMTTYPE=image/jpeg:https://victoria-linden.de/wp-content/uploads/2025/10/IMG-20250928-WA0001.jpg
END:VEVENT
BEGIN:VEVENT
DTSTART;TZID=Europe/Berlin:20260110T160000
DTEND;TZID=Europe/Berlin:20260110T185000
DTSTAMP:20260424T190607
CREATED:20251116T160437Z
LAST-MODIFIED:20251116T160437Z
UID:10000202-1768060800-1768071000@victoria-linden.de
SUMMARY:Bezirksliga Hannover Süd
DESCRIPTION:Spieltag Jugend 16/17
URL:https://victoria-linden.de/termin/bezirksliga-hannover-sued-22/
LOCATION:IGS Stöcken\, Eichsfelder Straße 38\, Hannover\, 30419
CATEGORIES:Korbball
ATTACH;FMTTYPE=image/jpeg:https://victoria-linden.de/wp-content/uploads/2025/11/J-16-17.jpg
END:VEVENT
BEGIN:VEVENT
DTSTART;TZID=Europe/Berlin:20251213T130000
DTEND;TZID=Europe/Berlin:20251213T173000
DTSTAMP:20260424T190607
CREATED:20251116T155925Z
LAST-MODIFIED:20251116T155925Z
UID:10000201-1765630800-1765647000@victoria-linden.de
SUMMARY:Bezirksliga Hannover Süd
DESCRIPTION:Spieltag Jugend 10/11
URL:https://victoria-linden.de/termin/bezirksliga-hannover-sued-21/
LOCATION:IGS Stöcken\, Eichsfelder Straße 38\, Hannover\, 30419
CATEGORIES:Korbball
ATTACH;FMTTYPE=image/jpeg:https://victoria-linden.de/wp-content/uploads/2025/10/IMG-20250928-WA0002.jpg
END:VEVENT
BEGIN:VEVENT
DTSTART;TZID=Europe/Berlin:20251207T100000
DTEND;TZID=Europe/Berlin:20251207T161500
DTSTAMP:20260424T190607
CREATED:20251116T155503Z
LAST-MODIFIED:20251116T155503Z
UID:10000200-1765101600-1765124100@victoria-linden.de
SUMMARY:Bezirksliga Hannover Süd
DESCRIPTION:Spieltag Damen 18
URL:https://victoria-linden.de/termin/bezirksliga-hannover-sued-20/
LOCATION:SV Gehrden\, Lange Feldstraße 17\, Gehrden\, 30989
CATEGORIES:Korbball
ATTACH;FMTTYPE=image/jpeg:https://victoria-linden.de/wp-content/uploads/2025/11/Damen-I.jpg
END:VEVENT
BEGIN:VEVENT
DTSTART;TZID=Europe/Berlin:20251206T164500
DTEND;TZID=Europe/Berlin:20251206T193000
DTSTAMP:20260424T190607
CREATED:20251116T155127Z
LAST-MODIFIED:20251116T155127Z
UID:10000199-1765039500-1765049400@victoria-linden.de
SUMMARY:Bezirksliga Hannover Süd
DESCRIPTION:Spieltag Jugend 16/17
URL:https://victoria-linden.de/termin/bezirksliga-hannover-sued-19/
LOCATION:IGS Stöcken\, Eichsfelder Straße 38\, Hannover\, 30419
CATEGORIES:Korbball
ATTACH;FMTTYPE=image/jpeg:https://victoria-linden.de/wp-content/uploads/2025/10/Screenshot_20250930_231852_Instagram.jpg
END:VEVENT
BEGIN:VEVENT
DTSTART;TZID=Europe/Berlin:20251206T130000
DTEND;TZID=Europe/Berlin:20251206T163000
DTSTAMP:20260424T190607
CREATED:20251116T154808Z
LAST-MODIFIED:20251116T154808Z
UID:10000198-1765026000-1765038600@victoria-linden.de
SUMMARY:Bezirksliga Hannover Süd
DESCRIPTION:Spieltag Jugend 12/13
URL:https://victoria-linden.de/termin/bezirksliga-hannover-sued-18/
LOCATION:IGS Stöcken\, Eichsfelder Straße 38\, Hannover\, 30419
CATEGORIES:Korbball
ATTACH;FMTTYPE=image/jpeg:https://victoria-linden.de/wp-content/uploads/2025/11/Jugend-12-13.jpeg
END:VEVENT
BEGIN:VEVENT
DTSTART;TZID=Europe/Berlin:20251129T174500
DTEND;TZID=Europe/Berlin:20251129T204500
DTSTAMP:20260424T190607
CREATED:20251116T154605Z
LAST-MODIFIED:20251116T154605Z
UID:10000197-1764438300-1764449100@victoria-linden.de
SUMMARY:Bezirksliga Hannover Süd
DESCRIPTION:Mixed Mannschaft
URL:https://victoria-linden.de/termin/bezirksliga-hannover-sued-17/
LOCATION:IGS Stöcken\, Eichsfelder Straße 38\, Hannover\, 30419
CATEGORIES:Korbball
ATTACH;FMTTYPE=image/jpeg:https://victoria-linden.de/wp-content/uploads/2025/01/20250111_175338.jpg
END:VEVENT
BEGIN:VEVENT
DTSTART;TZID=Europe/Berlin:20251129T130000
DTEND;TZID=Europe/Berlin:20251129T174000
DTSTAMP:20260424T190607
CREATED:20251116T154154Z
LAST-MODIFIED:20251116T154154Z
UID:10000196-1764421200-1764438000@victoria-linden.de
SUMMARY:Bezirksliga Hannover Süd
DESCRIPTION:Spieltag Jugend 14/15
URL:https://victoria-linden.de/termin/bezirksliga-hannover-sued-16/
LOCATION:IGS Stöcken\, Eichsfelder Straße 38\, Hannover\, 30419
CATEGORIES:Korbball
ATTACH;FMTTYPE=image/jpeg:https://victoria-linden.de/wp-content/uploads/2025/11/J-14-15.jpg
END:VEVENT
BEGIN:VEVENT
DTSTART;TZID=Europe/Berlin:20251122T174500
DTEND;TZID=Europe/Berlin:20251122T203000
DTSTAMP:20260424T190607
CREATED:20251116T153503Z
LAST-MODIFIED:20251116T153503Z
UID:10000195-1763833500-1763843400@victoria-linden.de
SUMMARY:Bezirksliga Hannover Süd
DESCRIPTION:Spieltag Jugend 16/17
URL:https://victoria-linden.de/termin/bezirksliga-hannover-sued-15/
LOCATION:IGS Stöcken\, Eichsfelder Straße 38\, Hannover\, 30419
CATEGORIES:Korbball
ATTACH;FMTTYPE=image/jpeg:https://victoria-linden.de/wp-content/uploads/2025/11/J-16-17.jpg
END:VEVENT
BEGIN:VEVENT
DTSTART;TZID=Europe/Berlin:20251122T130000
DTEND;TZID=Europe/Berlin:20251122T173000
DTSTAMP:20260424T190607
CREATED:20251116T152707Z
LAST-MODIFIED:20251116T152707Z
UID:10000194-1763816400-1763832600@victoria-linden.de
SUMMARY:Bezirksliga Hannover Süd
DESCRIPTION:Spieltag Jugend 10/11
URL:https://victoria-linden.de/termin/bezirksliga-hannover-sued-14/
LOCATION:IGS Stöcken\, Eichsfelder Straße 38\, Hannover\, 30419
CATEGORIES:Korbball
ATTACH;FMTTYPE=image/jpeg:https://victoria-linden.de/wp-content/uploads/2025/11/IMG-20250928-WA0001.jpg
END:VEVENT
BEGIN:VEVENT
DTSTART;TZID=Europe/Berlin:20250315T133000
DTEND;TZID=Europe/Berlin:20250315T173000
DTSTAMP:20260424T190607
CREATED:20250215T215116Z
LAST-MODIFIED:20250215T215116Z
UID:10000145-1742045400-1742059800@victoria-linden.de
SUMMARY:Bezirk Hannover Süd
DESCRIPTION:Jugend 10/11 (letzter Spieltag)
URL:https://victoria-linden.de/termin/bezirk-hannover-sued-2/
LOCATION:IGS Stöcken\, Eichsfelder Straße 38\, Hannover\, 30419
CATEGORIES:Korbball
ATTACH;FMTTYPE=image/jpeg:https://victoria-linden.de/wp-content/uploads/2025/02/IMG-20240921-WA0002.jpg
END:VEVENT
BEGIN:VEVENT
DTSTART;TZID=Europe/Berlin:20250309T132000
DTEND;TZID=Europe/Berlin:20250309T132000
DTSTAMP:20260424T190607
CREATED:20250215T214610Z
LAST-MODIFIED:20250215T214819Z
UID:10000144-1741526400-1741526400@victoria-linden.de
SUMMARY:Verbandsliga - Bezirk Hannover Süd
DESCRIPTION:Damen 18 (letzter Spieltag)
URL:https://victoria-linden.de/termin/verbandsliga-bezirk-hannover-sued-2/
LOCATION:IGS Stöcken\, Eichsfelder Straße 38\, Hannover\, 30419
CATEGORIES:Korbball
ATTACH;FMTTYPE=image/jpeg:https://victoria-linden.de/wp-content/uploads/2025/02/Damen-18-mit-Frauke.jpg
END:VEVENT
BEGIN:VEVENT
DTSTART;TZID=Europe/Berlin:20250301T160000
DTEND;TZID=Europe/Berlin:20250301T210000
DTSTAMP:20260424T190607
CREATED:20250215T214141Z
LAST-MODIFIED:20250215T214149Z
UID:10000143-1740844800-1740862800@victoria-linden.de
SUMMARY:Bezirk Hannover Süd
DESCRIPTION:Jugend 14/15 (letzter Spieltag)
URL:https://victoria-linden.de/termin/bezirk-hannover-sued/
LOCATION:TSV Ingeln-Oesselse\, Bergstraße 24\, Laatzen\, Niedersachsen\, 30880\, Deutschland
CATEGORIES:Korbball
ATTACH;FMTTYPE=image/jpeg:https://victoria-linden.de/wp-content/uploads/2025/02/signal-2024-09-21-19-10-05-628.jpg
END:VEVENT
BEGIN:VEVENT
DTSTART;TZID=Europe/Berlin:20250223T104000
DTEND;TZID=Europe/Berlin:20250223T124000
DTSTAMP:20260424T190607
CREATED:20250215T213811Z
LAST-MODIFIED:20250215T213811Z
UID:10000142-1740307200-1740314400@victoria-linden.de
SUMMARY:Verbandsliga - Bezirk Hannover Süd
DESCRIPTION:Damen 18
URL:https://victoria-linden.de/termin/verbandsliga-bezirk-hannover-sued/
LOCATION:IGS Stöcken\, Eichsfelder Straße 38\, Hannover\, 30419
CATEGORIES:Korbball
ATTACH;FMTTYPE=image/jpeg:https://victoria-linden.de/wp-content/uploads/2025/02/Damen-18-mit-Frauke.jpg
END:VEVENT
BEGIN:VEVENT
DTSTART;TZID=Europe/Berlin:20250222T160000
DTEND;TZID=Europe/Berlin:20250222T193000
DTSTAMP:20260424T190607
CREATED:20250215T213423Z
LAST-MODIFIED:20250215T213423Z
UID:10000141-1740240000-1740252600@victoria-linden.de
SUMMARY:Bezirksliga Hannover Süd
DESCRIPTION:Jugend 16/17 (letzter Spieltag)
URL:https://victoria-linden.de/termin/bezirksliga-hannover-sued-13/
LOCATION:TSV Ingeln-Oesselse\, Bergstraße 24\, Laatzen\, Niedersachsen\, 30880\, Deutschland
CATEGORIES:Korbball
ATTACH;FMTTYPE=image/jpeg:https://victoria-linden.de/wp-content/uploads/2025/02/J-16_17.jpg
END:VEVENT
BEGIN:VEVENT
DTSTART;TZID=Europe/Berlin:20250222T130000
DTEND;TZID=Europe/Berlin:20250222T170000
DTSTAMP:20260424T190607
CREATED:20250215T212900Z
LAST-MODIFIED:20250215T212900Z
UID:10000140-1740229200-1740243600@victoria-linden.de
SUMMARY:Bezirksliga Hannover Süd
DESCRIPTION:Jugend 10/11
URL:https://victoria-linden.de/termin/bezirksliga-hannover-sued-12/
LOCATION:IGS Stöcken\, Eichsfelder Straße 38\, Hannover\, 30419
CATEGORIES:Korbball
ATTACH;FMTTYPE=image/jpeg:https://victoria-linden.de/wp-content/uploads/2025/02/IMG-20240921-WA0002.jpg
END:VEVENT
BEGIN:VEVENT
DTSTART;TZID=Europe/Berlin:20250209T104000
DTEND;TZID=Europe/Berlin:20250209T131000
DTSTAMP:20260424T190607
CREATED:20250114T081356Z
LAST-MODIFIED:20250114T081356Z
UID:10000139-1739097600-1739106600@victoria-linden.de
SUMMARY:Bezirksliga/Verbandsliga Hannover Süd
DESCRIPTION:Damen 18
URL:https://victoria-linden.de/termin/bezirksliga-verbandsliga-hannover-sued-3/
LOCATION:TSV Ingeln-Oesselse\, Bergstraße 24\, Laatzen\, Niedersachsen\, 30880\, Deutschland
CATEGORIES:Korbball
ATTACH;FMTTYPE=image/jpeg:https://victoria-linden.de/wp-content/uploads/2024/12/Damen-18-mit-Frauke.jpg
END:VEVENT
BEGIN:VEVENT
DTSTART;TZID=Europe/Berlin:20250208T134000
DTEND;TZID=Europe/Berlin:20250208T173000
DTSTAMP:20260424T190607
CREATED:20250114T074347Z
LAST-MODIFIED:20250114T074347Z
UID:10000137-1739022000-1739035800@victoria-linden.de
SUMMARY:Bezirksliga Hannover Süd
DESCRIPTION:Jugend 14/15 \nHallenleitung
URL:https://victoria-linden.de/termin/bezirksliga-hannover-sued-11/
LOCATION:IGS Stöcken\, Eichsfelder Straße 38\, Hannover\, 30419
CATEGORIES:Korbball
ATTACH;FMTTYPE=image/jpeg:https://victoria-linden.de/wp-content/uploads/2024/09/signal-2024-09-21-19-10-05-628.jpg
END:VEVENT
BEGIN:VEVENT
DTSTART;TZID=Europe/Berlin:20250126T100000
DTEND;TZID=Europe/Berlin:20250126T120000
DTSTAMP:20260424T190607
CREATED:20250114T074013Z
LAST-MODIFIED:20250114T074013Z
UID:10000136-1737885600-1737892800@victoria-linden.de
SUMMARY:Bezirksliga/Verbandsliga Hannover Süd
DESCRIPTION:Damen 18 \nHallenleitung
URL:https://victoria-linden.de/termin/bezirksliga-verbandsliga-hannover-sued/
LOCATION:IGS Stöcken\, Eichsfelder Straße 38\, Hannover\, 30419
CATEGORIES:Korbball
ATTACH;FMTTYPE=image/jpeg:https://victoria-linden.de/wp-content/uploads/2024/12/Damen-18-mit-Frauke.jpg
END:VEVENT
BEGIN:VEVENT
DTSTART;TZID=Europe/Berlin:20250118T142000
DTEND;TZID=Europe/Berlin:20250118T173000
DTSTAMP:20260424T190607
CREATED:20250114T072754Z
LAST-MODIFIED:20250114T072754Z
UID:10000135-1737210000-1737221400@victoria-linden.de
SUMMARY:Bezirksliga Hannover Süd
DESCRIPTION:Jugend 14/15
URL:https://victoria-linden.de/termin/bezirksliga-hannover-sued-10/
LOCATION:IGS Stöcken\, Eichsfelder Straße 38\, Hannover\, 30419
CATEGORIES:Korbball
ATTACH;FMTTYPE=image/jpeg:https://victoria-linden.de/wp-content/uploads/2024/09/signal-2024-09-21-19-10-05-628.jpg
END:VEVENT
BEGIN:VEVENT
DTSTART;TZID=Europe/Berlin:20241215T112000
DTEND;TZID=Europe/Berlin:20241215T144000
DTSTAMP:20260424T190607
CREATED:20241205T092940Z
LAST-MODIFIED:20241205T092940Z
UID:10000131-1734261600-1734273600@victoria-linden.de
SUMMARY:Korbballspieltag im Bezirk Hannover Süd
DESCRIPTION:Damen 2 Verbandsliga
URL:https://victoria-linden.de/termin/korbballspieltag-im-bezirk-hannover-sued-3/
LOCATION:TSV Ingeln-Oesselse\, Bergstraße 24\, Laatzen\, Niedersachsen\, 30880\, Deutschland
CATEGORIES:Korbball
ATTACH;FMTTYPE=image/jpeg:https://victoria-linden.de/wp-content/uploads/2024/12/Damen-18-mit-Frauke.jpg
END:VEVENT
BEGIN:VEVENT
DTSTART;TZID=Europe/Berlin:20241207T160000
DTEND;TZID=Europe/Berlin:20241207T193000
DTSTAMP:20260424T190607
CREATED:20241205T092410Z
LAST-MODIFIED:20241205T092410Z
UID:10000130-1733587200-1733599800@victoria-linden.de
SUMMARY:Korbballspieltag im Bezirk Hannover Süd
DESCRIPTION:Jugend 10/11
URL:https://victoria-linden.de/termin/korbballspieltag-im-bezirk-hannover-sued-2/
LOCATION:TSV Ingeln-Oesselse\, Bergstraße 24\, Laatzen\, Niedersachsen\, 30880\, Deutschland
CATEGORIES:Korbball
ATTACH;FMTTYPE=image/jpeg:https://victoria-linden.de/wp-content/uploads/2024/12/J-10-11-alle.jpg
END:VEVENT
BEGIN:VEVENT
DTSTART;TZID=Europe/Berlin:20241207T134000
DTEND;TZID=Europe/Berlin:20241207T154000
DTSTAMP:20260424T190607
CREATED:20241205T092036Z
LAST-MODIFIED:20241205T092036Z
UID:10000129-1733578800-1733586000@victoria-linden.de
SUMMARY:Korbballspieltag im Bezirk Hannover Süd
DESCRIPTION:Jugend 16/17
URL:https://victoria-linden.de/termin/korbballspieltag-im-bezirk-hannover-sued/
LOCATION:IGS Stöcken\, Eichsfelder Straße 38\, Hannover\, 30419
CATEGORIES:Korbball
ATTACH;FMTTYPE=image/jpeg:https://victoria-linden.de/wp-content/uploads/2024/12/j-16-17-2.jpeg
END:VEVENT
BEGIN:VEVENT
DTSTART;TZID=Europe/Berlin:20241130T170000
DTEND;TZID=Europe/Berlin:20241130T192000
DTSTAMP:20260424T190607
CREATED:20241021T211152Z
LAST-MODIFIED:20241021T211152Z
UID:10000126-1732986000-1732994400@victoria-linden.de
SUMMARY:Bezirksliga Hannover Süd
DESCRIPTION:Mixed Mannschaft Victoria Linden – NTV 09
URL:https://victoria-linden.de/termin/bezirksliga-hannover-sued-8/
LOCATION:IGS Stöcken\, Eichsfelder Straße 38\, Hannover\, 30419
CATEGORIES:Korbball
ATTACH;FMTTYPE=image/jpeg:https://victoria-linden.de/wp-content/uploads/2024/10/Logo-Victoria.jpg
END:VEVENT
BEGIN:VEVENT
DTSTART;TZID=Europe/Berlin:20241130T160000
DTEND;TZID=Europe/Berlin:20241130T182500
DTSTAMP:20260424T190607
CREATED:20241021T211846Z
LAST-MODIFIED:20241021T211846Z
UID:10000127-1732982400-1732991100@victoria-linden.de
SUMMARY:Bezirksliga Hannover Süd
DESCRIPTION:Altersklasse J 18/19 – Spielgemeinschaft Victoria Linden – SG Gehrden
URL:https://victoria-linden.de/termin/bezirksliga-hannover-sued-9/
LOCATION:TSV Ingeln-Oesselse\, Bergstraße 24\, Laatzen\, Niedersachsen\, 30880\, Deutschland
CATEGORIES:Korbball
ATTACH;FMTTYPE=image/jpeg:https://victoria-linden.de/wp-content/uploads/2024/10/Logo-Victoria.jpg
END:VEVENT
BEGIN:VEVENT
DTSTART;TZID=Europe/Berlin:20241124T144000
DTEND;TZID=Europe/Berlin:20241124T164000
DTSTAMP:20260424T190607
CREATED:20241021T210915Z
LAST-MODIFIED:20241021T210915Z
UID:10000125-1732459200-1732466400@victoria-linden.de
SUMMARY:Bezirksliga Hannover Süd
DESCRIPTION:Damen 18 (Verbandsliga)
URL:https://victoria-linden.de/termin/bezirksliga-hannover-sued-7/
LOCATION:SV Gehrden\, Lange Feldstraße 17\, Gehrden\, 30989
CATEGORIES:Korbball
ATTACH;FMTTYPE=image/jpeg:https://victoria-linden.de/wp-content/uploads/2024/09/Damen-18-mit-Frauke.jpg
END:VEVENT
BEGIN:VEVENT
DTSTART;TZID=Europe/Berlin:20241123T160000
DTEND;TZID=Europe/Berlin:20241123T200000
DTSTAMP:20260424T190607
CREATED:20241021T210506Z
LAST-MODIFIED:20241021T210506Z
UID:10000124-1732377600-1732392000@victoria-linden.de
SUMMARY:Bezirksliga Hannover Süd
DESCRIPTION:Altersklasse J 14/15
URL:https://victoria-linden.de/termin/bezirksliga-hannover-sued-6/
LOCATION:TSV Ingeln-Oesselse\, Bergstraße 24\, Laatzen\, Niedersachsen\, 30880\, Deutschland
CATEGORIES:Korbball
ATTACH;FMTTYPE=image/jpeg:https://victoria-linden.de/wp-content/uploads/2024/09/signal-2024-09-21-19-10-05-628.jpg
END:VEVENT
BEGIN:VEVENT
DTSTART;TZID=Europe/Berlin:20241123T130000
DTEND;TZID=Europe/Berlin:20241123T170000
DTSTAMP:20260424T190607
CREATED:20241021T210131Z
LAST-MODIFIED:20241021T210131Z
UID:10000123-1732366800-1732381200@victoria-linden.de
SUMMARY:Bezirksliga Hannover Süd
DESCRIPTION:Altersklasse J 10/11
URL:https://victoria-linden.de/termin/bezirksliga-hannover-sued-5/
LOCATION:IGS Stöcken\, Eichsfelder Straße 38\, Hannover\, 30419
CATEGORIES:Korbball
ATTACH;FMTTYPE=image/jpeg:https://victoria-linden.de/wp-content/uploads/2024/09/IMG-20240921-WA0003.jpg
END:VEVENT
END:VCALENDAR