BEGIN:VCALENDAR
VERSION:2.0
PRODID:-//TSV Victoria Linden e.V. - Hannover - ECPv6.15.20//NONSGML v1.0//EN
CALSCALE:GREGORIAN
METHOD:PUBLISH
X-ORIGINAL-URL:https://victoria-linden.de
X-WR-CALDESC:Veranstaltungen für TSV Victoria Linden e.V. - Hannover
REFRESH-INTERVAL;VALUE=DURATION:PT1H
X-Robots-Tag:noindex
X-PUBLISHED-TTL:PT1H
BEGIN:VTIMEZONE
TZID:Europe/Berlin
BEGIN:DAYLIGHT
TZOFFSETFROM:+0100
TZOFFSETTO:+0200
TZNAME:CEST
DTSTART:20250330T010000
END:DAYLIGHT
BEGIN:STANDARD
TZOFFSETFROM:+0200
TZOFFSETTO:+0100
TZNAME:CET
DTSTART:20251026T010000
END:STANDARD
BEGIN:DAYLIGHT
TZOFFSETFROM:+0100
TZOFFSETTO:+0200
TZNAME:CEST
DTSTART:20260329T010000
END:DAYLIGHT
BEGIN:STANDARD
TZOFFSETFROM:+0200
TZOFFSETTO:+0100
TZNAME:CET
DTSTART:20261025T010000
END:STANDARD
BEGIN:DAYLIGHT
TZOFFSETFROM:+0100
TZOFFSETTO:+0200
TZNAME:CEST
DTSTART:20270328T010000
END:DAYLIGHT
BEGIN:STANDARD
TZOFFSETFROM:+0200
TZOFFSETTO:+0100
TZNAME:CET
DTSTART:20271031T010000
END:STANDARD
END:VTIMEZONE
BEGIN:VEVENT
DTSTART;TZID=Europe/Berlin:20260425T150000
DTEND;TZID=Europe/Berlin:20260425T170000
DTSTAMP:20260421T123751
CREATED:20250727T131604Z
LAST-MODIFIED:20250727T133349Z
UID:10000188-1777129200-1777136400@victoria-linden.de
SUMMARY:Rugby 2. Bundesliga RK 03 Berlin : TSV Victoria-Linden
DESCRIPTION:6. Auswärtsspiel der Zebras in Berlin
URL:https://victoria-linden.de/termin/rugby-2-bundesliga-tsv-victoria-linden-rk-03-berlin-2/
LOCATION:Rugby Klub 03 Berlin e.V.\, Hansastraße 190\, Berlin\, 13088
CATEGORIES:Rugby – 1. Herren
ATTACH;FMTTYPE=image/jpeg:https://victoria-linden.de/wp-content/uploads/2024/09/Z1A8287.jpg
ORGANIZER;CN="Rugby Deutschland":MAILTO:office@rugbydeutschland.org
END:VEVENT
BEGIN:VEVENT
DTSTART;TZID=Europe/Berlin:20260509T150000
DTEND;TZID=Europe/Berlin:20260509T170000
DTSTAMP:20260421T123751
CREATED:20250727T131914Z
LAST-MODIFIED:20250727T133139Z
UID:10000189-1778338800-1778346000@victoria-linden.de
SUMMARY:Rugby 2. Bundesliga TSV Victoria-Linden : Hamburger RC
DESCRIPTION:6. Heimspiel der Zebras am Fösseweg
URL:https://victoria-linden.de/termin/rugby-2-bundesliga-hamburger-rc-tsv-victoria-linden-2/
LOCATION:Sportplatz TSV Victoria-Linden e.V.\, Fösseweg 5\, Hannover\, Niedersachsen\, 30453\, Deutschland
CATEGORIES:Rugby – 1. Herren
ATTACH;FMTTYPE=image/jpeg:https://victoria-linden.de/wp-content/uploads/2024/09/Z1A8287.jpg
ORGANIZER;CN="Rugby Deutschland":MAILTO:office@rugbydeutschland.org
END:VEVENT
END:VCALENDAR