BEGIN:VCALENDAR
VERSION:2.0
PRODID:-//TSV Victoria Linden e.V. - Hannover - ECPv6.15.20//NONSGML v1.0//EN
CALSCALE:GREGORIAN
METHOD:PUBLISH
X-ORIGINAL-URL:https://victoria-linden.de
X-WR-CALDESC:Veranstaltungen für TSV Victoria Linden e.V. - Hannover
REFRESH-INTERVAL;VALUE=DURATION:PT1H
X-Robots-Tag:noindex
X-PUBLISHED-TTL:PT1H
BEGIN:VTIMEZONE
TZID:Europe/Berlin
BEGIN:DAYLIGHT
TZOFFSETFROM:+0100
TZOFFSETTO:+0200
TZNAME:CEST
DTSTART:20230326T010000
END:DAYLIGHT
BEGIN:STANDARD
TZOFFSETFROM:+0200
TZOFFSETTO:+0100
TZNAME:CET
DTSTART:20231029T010000
END:STANDARD
BEGIN:DAYLIGHT
TZOFFSETFROM:+0100
TZOFFSETTO:+0200
TZNAME:CEST
DTSTART:20240331T010000
END:DAYLIGHT
BEGIN:STANDARD
TZOFFSETFROM:+0200
TZOFFSETTO:+0100
TZNAME:CET
DTSTART:20241027T010000
END:STANDARD
BEGIN:DAYLIGHT
TZOFFSETFROM:+0100
TZOFFSETTO:+0200
TZNAME:CEST
DTSTART:20250330T010000
END:DAYLIGHT
BEGIN:STANDARD
TZOFFSETFROM:+0200
TZOFFSETTO:+0100
TZNAME:CET
DTSTART:20251026T010000
END:STANDARD
BEGIN:DAYLIGHT
TZOFFSETFROM:+0100
TZOFFSETTO:+0200
TZNAME:CEST
DTSTART:20260329T010000
END:DAYLIGHT
BEGIN:STANDARD
TZOFFSETFROM:+0200
TZOFFSETTO:+0100
TZNAME:CET
DTSTART:20261025T010000
END:STANDARD
END:VTIMEZONE
BEGIN:VEVENT
DTSTART;TZID=Europe/Berlin:20250510T150000
DTEND;TZID=Europe/Berlin:20250510T163000
DTSTAMP:20260421T175356
CREATED:20240730T054727Z
LAST-MODIFIED:20241022T122013Z
UID:10000103-1746889200-1746894600@victoria-linden.de
SUMMARY:Rugby 2. Bundesliga TSV Victoria-Linden : RU Hohen Neuendorf
DESCRIPTION:5. Heimspiel der Zebras am Fösseweg
URL:https://victoria-linden.de/termin/rugby-2-bundesliga-tsv-victoria-linden-ru-hohen-neuendorf-2/
LOCATION:Sportplatz TSV Victoria-Linden e.V.\, Fösseweg 5\, Hannover\, Niedersachsen\, 30453\, Deutschland
CATEGORIES:Rugby – 1. Herren
ATTACH;FMTTYPE=image/jpeg:https://victoria-linden.de/wp-content/uploads/2024/09/Z1A8287.jpg
ORGANIZER;CN="Rugby Deutschland":MAILTO:office@rugbydeutschland.org
END:VEVENT
BEGIN:VEVENT
DTSTART;TZID=Europe/Berlin:20250503T150000
DTEND;TZID=Europe/Berlin:20250503T163000
DTSTAMP:20260421T175356
CREATED:20240730T054444Z
LAST-MODIFIED:20241022T122050Z
UID:10000101-1746284400-1746289800@victoria-linden.de
SUMMARY:Rugby 2. Bundesliga TSV Victoria-Linden : RC Dresden
DESCRIPTION:4. Heimspiel der Zebras am Fösseweg
URL:https://victoria-linden.de/termin/rugby-2-bundesliga-tsv-victoria-linden-rc-dresden/
LOCATION:Sportplatz TSV Victoria-Linden e.V.\, Fösseweg 5\, Hannover\, Niedersachsen\, 30453\, Deutschland
CATEGORIES:Rugby – 1. Herren
ATTACH;FMTTYPE=image/jpeg:https://victoria-linden.de/wp-content/uploads/2024/09/Z1A8287.jpg
ORGANIZER;CN="Rugby Deutschland":MAILTO:office@rugbydeutschland.org
END:VEVENT
BEGIN:VEVENT
DTSTART;TZID=Europe/Berlin:20250503T130000
DTEND;TZID=Europe/Berlin:20250503T143000
DTSTAMP:20260421T175356
CREATED:20250421T194047Z
LAST-MODIFIED:20250421T194047Z
UID:10000168-1746277200-1746282600@victoria-linden.de
SUMMARY:Rugby U18: SG Hannover Nord United - Berliner Rugby Club
DESCRIPTION:Am Sonnabend den 3. Mai 2025 spielt die U18-SG Hannover Nord United im Viertelfinale um die Deutsche Meisterschaft. Noch ist nicht klar\, wer der Gegner sein wird und auch noch nicht\, ob es ein Heimspiel auf den Platz vm TSV Victoria Linden oder ein Auswärtsspiel sein wird. Ankick ist wahrscheinlich um 13.00 Uhr.
URL:https://victoria-linden.de/termin/rugby-u18-sg-hannover-nord-united-berliner-rugby-club-2/
LOCATION:Sportplatz TSV Victoria-Linden e.V.\, Fösseweg 5\, Hannover\, Niedersachsen\, 30453\, Deutschland
CATEGORIES:Rugby – U10
ATTACH;FMTTYPE=image/jpeg:https://victoria-linden.de/wp-content/uploads/2024/02/2311xx-U18-web.jpg
ORGANIZER;CN="Rugby Deutschland":MAILTO:office@rugbydeutschland.org
END:VEVENT
BEGIN:VEVENT
DTSTART;TZID=Europe/Berlin:20250503T130000
DTEND;TZID=Europe/Berlin:20250503T141500
DTSTAMP:20260421T175356
CREATED:20250421T194329Z
LAST-MODIFIED:20250421T194757Z
UID:10000169-1746277200-1746281700@victoria-linden.de
SUMMARY:Rugby U16: SG Hannover Nord United - BSV 1892
DESCRIPTION:Am Sonnabend den 3. Mai 2025 spielt die SG Hannover Nord United im Achtelfinale um die Deutsche Meisterschaft gegen die SG Junge Preußen / RK03 Berlin auf dem Sportplatz des SC Germania List. Ankick ist vermutlich um 13.00 Uhr.
URL:https://victoria-linden.de/termin/rugby-u16-sg-hannover-nord-united-sg-junge-preussen-rk-03-berlin/
LOCATION:SC Germania List von 1900 e.V. Hannover\, Schneckenburgerstrasse 22 G\, Hannover\, 30177
CATEGORIES:Rugby – U10
ATTACH;FMTTYPE=image/jpeg:https://victoria-linden.de/wp-content/uploads/2025/03/241110-U16-SG-HNU-M-Bild2.jpg
ORGANIZER;CN="Rugby Deutschland":MAILTO:office@rugbydeutschland.org
END:VEVENT
BEGIN:VEVENT
DTSTART;TZID=Europe/Berlin:20250426T150000
DTEND;TZID=Europe/Berlin:20250426T163000
DTSTAMP:20260421T175356
CREATED:20240924T111844Z
LAST-MODIFIED:20241022T122122Z
UID:10000117-1745679600-1745685000@victoria-linden.de
SUMMARY:Rugby 2. Bundesliga SG Rugby Ricklingen : TSV Victoria-Linden
DESCRIPTION:4. Auswärtsspiel der Zebras in Hannover-Ricklingen – Derbyzeit !!!
URL:https://victoria-linden.de/termin/rugby-2-bundesliga-sg-rugby-ricklingen-tsv-victoria-linden-2/
LOCATION:08 Ricklingen\, Mühlenholzweg 4A\, Hannover\, 30459\, Deutschland
CATEGORIES:Rugby – 1. Herren
ATTACH;FMTTYPE=image/jpeg:https://victoria-linden.de/wp-content/uploads/2024/09/Z1A8287.jpg
ORGANIZER;CN="Rugby Deutschland":MAILTO:office@rugbydeutschland.org
END:VEVENT
BEGIN:VEVENT
DTSTART;TZID=Europe/Berlin:20250426T130000
DTEND;TZID=Europe/Berlin:20250426T143000
DTSTAMP:20260421T175356
CREATED:20250421T193128Z
LAST-MODIFIED:20250421T193150Z
UID:10000167-1745672400-1745677800@victoria-linden.de
SUMMARY:Rugby U18: VfR Döhren - SG Hannover Nord United
DESCRIPTION:Am Sonnabend den 26. April 2025 spielt die U18-SG Hannover Nord United auswärts gegen den VfR Döhren. Ankick ist um 13.00 Uhr.
URL:https://victoria-linden.de/termin/rugby-u18-vfr-doehren-sg-hannover-nord-united/
LOCATION:VfR Döhren\, Gustav-Brandt-Straße 82\, Hannover\, 30519\, Deutschland
CATEGORIES:Rugby – U10
ATTACH;FMTTYPE=image/jpeg:https://victoria-linden.de/wp-content/uploads/2024/02/2311xx-U18-web.jpg
ORGANIZER;CN="Rugby Deutschland":MAILTO:office@rugbydeutschland.org
END:VEVENT
BEGIN:VEVENT
DTSTART;TZID=Europe/Berlin:20250412T150000
DTEND;TZID=Europe/Berlin:20250412T163000
DTSTAMP:20260421T175356
CREATED:20240924T112055Z
LAST-MODIFIED:20241022T122155Z
UID:10000118-1744470000-1744475400@victoria-linden.de
SUMMARY:Rugby 2. Bundesliga TSV Victoria-Linden : RC Dresden
DESCRIPTION:3. Heimspiel der Zebras am Fösseweg
URL:https://victoria-linden.de/termin/rugby-2-bundesliga-tsv-victoria-linden-rc-dresden-2/
LOCATION:Sportplatz TSV Victoria-Linden e.V.\, Fösseweg 5\, Hannover\, Niedersachsen\, 30453\, Deutschland
CATEGORIES:Rugby – 1. Herren
ATTACH;FMTTYPE=image/jpeg:https://victoria-linden.de/wp-content/uploads/2024/09/Z1A8287.jpg
ORGANIZER;CN="Rugby Deutschland":MAILTO:office@rugbydeutschland.org
END:VEVENT
BEGIN:VEVENT
DTSTART;TZID=Europe/Berlin:20250329T160000
DTEND;TZID=Europe/Berlin:20250329T173000
DTSTAMP:20260421T175356
CREATED:20250312T134437Z
LAST-MODIFIED:20250312T142041Z
UID:10000155-1743264000-1743269400@victoria-linden.de
SUMMARY:Rugby U18: SG Hannover Nord United - Berliner Rugby Club
DESCRIPTION:Am Sonntag den 29. März 2025 spielt die U18-SG Hannover Nord United gegen die den Berliner RC auf dem Sportplatz von SC Germania List. Ankick ist um 16.00 Uhr.
URL:https://victoria-linden.de/termin/rugby-u18-sg-hannover-nord-united-berliner-rugby-club/
LOCATION:SC Germania List von 1900 e.V. Hannover\, Schneckenburgerstrasse 22 G\, Hannover\, 30177
CATEGORIES:Rugby – U10
ATTACH;FMTTYPE=image/jpeg:https://victoria-linden.de/wp-content/uploads/2024/02/2311xx-U18-web.jpg
ORGANIZER;CN="Rugby Deutschland":MAILTO:office@rugbydeutschland.org
END:VEVENT
BEGIN:VEVENT
DTSTART;TZID=Europe/Berlin:20250329T140000
DTEND;TZID=Europe/Berlin:20250329T160000
DTSTAMP:20260421T175356
CREATED:20250312T141333Z
LAST-MODIFIED:20250312T141941Z
UID:10000157-1743256800-1743264000@victoria-linden.de
SUMMARY:Rugby U16: FC St. Pauli  --  SG Hannover Nord United
DESCRIPTION:Ankick ist um 14.00 Uhr
URL:https://victoria-linden.de/termin/rugby-u16-fc-st-pauli-sg-hannover-nord-united/
LOCATION:FC St. Pauli v. 1910 e.V.\, Saarlandstraße 71\, Hamburg\, 22303
CATEGORIES:Rugby – U10
ATTACH;FMTTYPE=image/jpeg:https://victoria-linden.de/wp-content/uploads/2025/03/241110-U16-SG-HNU-M-Bild2.jpg
ORGANIZER;CN="Rugby Deutschland":MAILTO:office@rugbydeutschland.org
END:VEVENT
BEGIN:VEVENT
DTSTART;TZID=Europe/Berlin:20250316T130000
DTEND;TZID=Europe/Berlin:20250316T141500
DTSTAMP:20260421T175356
CREATED:20250312T133658Z
LAST-MODIFIED:20250323T090845Z
UID:10000154-1742130000-1742134500@victoria-linden.de
SUMMARY:Rugby U16: SG Hannover Nord United - SG WTV/RSV/RCBRS
DESCRIPTION:Am Sonntag den 16. März 2025 spielt die SG Hannover Nord United gegen die SG aus Wiedenbrück/Bonn/Köln auf dem Sportplatz des TSV Victoria Linden. Ankick ist um 13.00 Uhr.
URL:https://victoria-linden.de/termin/rugby-u16-sg-hannover-nord-united-sg-wtv-rsv-rcbrs/
LOCATION:Sportplatz TSV Victoria-Linden e.V.\, Fösseweg 5\, Hannover\, Niedersachsen\, 30453\, Deutschland
CATEGORIES:Rugby – U10
ATTACH;FMTTYPE=image/jpeg:https://victoria-linden.de/wp-content/uploads/2025/03/241110-U16-SG-HNU-M-Bild2.jpg
ORGANIZER;CN="Rugby Deutschland":MAILTO:office@rugbydeutschland.org
END:VEVENT
BEGIN:VEVENT
DTSTART;TZID=Europe/Berlin:20250315T140000
DTEND;TZID=Europe/Berlin:20250315T153000
DTSTAMP:20260421T175356
CREATED:20250312T134917Z
LAST-MODIFIED:20250312T134917Z
UID:10000156-1742047200-1742052600@victoria-linden.de
SUMMARY:Rugby-Testspiel TSV Victoria-Linden : SC Germania List
DESCRIPTION:
URL:https://victoria-linden.de/termin/rugby-testspiel-tsv-victoria-linden-sc-germania-list/
LOCATION:Sportplatz TSV Victoria-Linden e.V.\, Fösseweg 5\, Hannover\, Niedersachsen\, 30453\, Deutschland
CATEGORIES:Rugby – U10
ATTACH;FMTTYPE=image/jpeg:https://victoria-linden.de/wp-content/uploads/2024/09/Z1A8287.jpg
ORGANIZER;CN="Rugby Deutschland":MAILTO:office@rugbydeutschland.org
END:VEVENT
BEGIN:VEVENT
DTSTART;TZID=Europe/Berlin:20241123T140000
DTEND;TZID=Europe/Berlin:20241123T153000
DTSTAMP:20260421T175356
CREATED:20240730T053757Z
LAST-MODIFIED:20241022T122224Z
UID:10000099-1732370400-1732375800@victoria-linden.de
SUMMARY:Rugby 2. Bundesliga TSV Victoria-Linden : RU Hohen Neuendorf
DESCRIPTION:2. Heimspiel der Zebras am Fösseweg
URL:https://victoria-linden.de/termin/rugby-2-bundesliga-tsv-victoria-linden-ru-hohen-neuendorf/
LOCATION:Sportplatz TSV Victoria-Linden e.V.\, Fösseweg 5\, Hannover\, Niedersachsen\, 30453\, Deutschland
CATEGORIES:Rugby – 1. Herren
ATTACH;FMTTYPE=image/jpeg:https://victoria-linden.de/wp-content/uploads/2024/09/Z1A8287.jpg
ORGANIZER;CN="Rugby Deutschland":MAILTO:office@rugbydeutschland.org
END:VEVENT
BEGIN:VEVENT
DTSTART;TZID=Europe/Berlin:20241109T140000
DTEND;TZID=Europe/Berlin:20241109T153000
DTSTAMP:20260421T175356
CREATED:20240730T054316Z
LAST-MODIFIED:20241022T122251Z
UID:10000100-1731160800-1731166200@victoria-linden.de
SUMMARY:Rugby 2. Bundesliga SG Rugby Ricklingen : TSV Victoria-Linden
DESCRIPTION:3. Auswärtsspiel der Zebras in Hannover-Ricklingen – Derbyzeit !!!
URL:https://victoria-linden.de/termin/rugby-2-bundesliga-sg-rugby-ricklingen-tsv-victoria-linden/
LOCATION:08 Ricklingen\, Mühlenholzweg 4A\, Hannover\, 30459\, Deutschland
CATEGORIES:Rugby – 1. Herren
ATTACH;FMTTYPE=image/jpeg:https://victoria-linden.de/wp-content/uploads/2024/09/Z1A8287.jpg
ORGANIZER;CN="Rugby Deutschland":MAILTO:office@rugbydeutschland.org
END:VEVENT
BEGIN:VEVENT
DTSTART;TZID=Europe/Berlin:20241102T150000
DTEND;TZID=Europe/Berlin:20241102T163000
DTSTAMP:20260421T175356
CREATED:20240730T051606Z
LAST-MODIFIED:20241022T122322Z
UID:10000094-1730559600-1730565000@victoria-linden.de
SUMMARY:Rugby 2. Bundesliga RU Hohen Neuendorf : TSV Victoria-Linden
DESCRIPTION:2. Auswärtsspiel der Zebras in Hohen Neuendorf
URL:https://victoria-linden.de/termin/rugby-2-bundesliga-ru-hohen-neuendorf-tsv-victoria-linden/
LOCATION:RU Hohen Neuendorf\, Waldstarße 51\, Hohen Neuendorf\, 16540\, Deutschland
CATEGORIES:Rugby – 1. Herren
ATTACH;FMTTYPE=image/jpeg:https://victoria-linden.de/wp-content/uploads/2024/09/Z1A8287.jpg
ORGANIZER;CN="Rugby Deutschland":MAILTO:office@rugbydeutschland.org
END:VEVENT
BEGIN:VEVENT
DTSTART;TZID=Europe/Berlin:20241026T150000
DTEND;TZID=Europe/Berlin:20241026T163000
DTSTAMP:20260421T175356
CREATED:20240730T052225Z
LAST-MODIFIED:20241022T122350Z
UID:10000095-1729954800-1729960200@victoria-linden.de
SUMMARY:Rugby 2. Bundesliga RC Dresden : TSV Victoria-Linden
DESCRIPTION:1. Auswärtsspiel der Zebras in Dresden
URL:https://victoria-linden.de/termin/rugby-2-bundesliga-rc-dresden-tsv-victoria-linden/
LOCATION:RC Dresden\, Magdeburger Str. 10\, Dresden\, 01067\, Deutschland
CATEGORIES:Rugby – 1. Herren
ATTACH;FMTTYPE=image/jpeg:https://victoria-linden.de/wp-content/uploads/2024/09/Z1A8287.jpg
ORGANIZER;CN="Rugby Deutschland":MAILTO:office@rugbydeutschland.org
END:VEVENT
BEGIN:VEVENT
DTSTART;TZID=Europe/Berlin:20241012T150000
DTEND;TZID=Europe/Berlin:20241012T163000
DTSTAMP:20260421T175356
CREATED:20240730T052954Z
LAST-MODIFIED:20241022T122427Z
UID:10000097-1728745200-1728750600@victoria-linden.de
SUMMARY:Rugby 2. Bundesliga TSV Victoria-Linden : SG Rugby Ricklingen
DESCRIPTION:1. Heimspiel der Zebras am Fösseweg
URL:https://victoria-linden.de/termin/rugby-2-bundesliga-tsv-victoria-linden-sg-rugby-ricklingen/
LOCATION:Sportplatz TSV Victoria-Linden e.V.\, Fösseweg 5\, Hannover\, Niedersachsen\, 30453\, Deutschland
CATEGORIES:Rugby – 1. Herren
ATTACH;FMTTYPE=image/jpeg:https://victoria-linden.de/wp-content/uploads/2024/09/Z1A8287.jpg
ORGANIZER;CN="Rugby Deutschland":MAILTO:office@rugbydeutschland.org
END:VEVENT
BEGIN:VEVENT
DTSTART;TZID=Europe/Berlin:20240525T120000
DTEND;TZID=Europe/Berlin:20240601T140000
DTSTAMP:20260421T175356
CREATED:20240205T145138Z
LAST-MODIFIED:20240205T145138Z
UID:10000076-1716638400-1717250400@victoria-linden.de
SUMMARY:Rugby U16: VfR Döhren  --  SG Hannover Nord United
DESCRIPTION:
URL:https://victoria-linden.de/termin/rugby-u16-vfr-doehren-sg-hannover-nord-united/
LOCATION:VfR Döhren\, Gustav-Brandt-Straße 82\, Hannover\, 30519\, Deutschland
CATEGORIES:Rugby – U16
ATTACH;FMTTYPE=image/jpeg:https://victoria-linden.de/wp-content/uploads/2024/02/U16-Spielszene.jpg
ORGANIZER;CN="Rugby Deutschland":MAILTO:office@rugbydeutschland.org
END:VEVENT
BEGIN:VEVENT
DTSTART;TZID=Europe/Berlin:20240518T130000
DTEND;TZID=Europe/Berlin:20240518T143000
DTSTAMP:20260421T175356
CREATED:20240324T100026Z
LAST-MODIFIED:20240324T100026Z
UID:10000084-1716037200-1716042600@victoria-linden.de
SUMMARY:Rugby U18: SC Frankfurt 1880 -- SG Hannover Nord United
DESCRIPTION:
URL:https://victoria-linden.de/termin/rugby-u18-sc-frankfurt-1880-sg-hannover-nord-united/
LOCATION:SC Frankfurt 1880\, Feldgerichtstr. 29\, Frankfurt am Main\, 60320
CATEGORIES:Rugby – U18
ATTACH;FMTTYPE=image/jpeg:https://victoria-linden.de/wp-content/uploads/2024/02/2311xx-U18-web.jpg
ORGANIZER;CN="Rugby Deutschland":MAILTO:office@rugbydeutschland.org
END:VEVENT
BEGIN:VEVENT
DTSTART;TZID=Europe/Berlin:20240511T150000
DTEND;TZID=Europe/Berlin:20240511T173000
DTSTAMP:20260421T175356
CREATED:20230804T062305Z
LAST-MODIFIED:20231121T183141Z
UID:10000027-1715439600-1715448600@victoria-linden.de
SUMMARY:Rugby 1. Bundesliga FC St. Pauli : TSV Victoria-Linden
DESCRIPTION:Saisonabschluß der Zebras in Hamburg -Der Fanbus für Ewachsene Fans ist gebucht. Eine Buchungsliste liegt im Clubhaus zur Anmeldung aus. Wenn ausgebucht dann ausgebucht !
URL:https://victoria-linden.de/termin/rugby-1-bundesliga-fc-st-pauli-tsv-victoria-linden/
LOCATION:FC St. Pauli v. 1910 e.V.\, Saarlandstraße 71\, Hamburg\, 22303
CATEGORIES:Rugby – 1. Herren
ATTACH;FMTTYPE=image/jpeg:https://victoria-linden.de/wp-content/uploads/2023/08/Die-Zebras-2023.jpg
ORGANIZER;CN="Rugby Deutschland":MAILTO:office@rugbydeutschland.org
END:VEVENT
BEGIN:VEVENT
DTSTART;TZID=Europe/Berlin:20240504T140000
DTEND;TZID=Europe/Berlin:20240504T163000
DTSTAMP:20260421T175356
CREATED:20230804T061907Z
LAST-MODIFIED:20231121T173638Z
UID:10000026-1714831200-1714840200@victoria-linden.de
SUMMARY:Rugby 1. Bundesliga Hannover78 : TSV Victoria-Linden
DESCRIPTION:Auswärtsspiel der Zebras in Hannover
URL:https://victoria-linden.de/termin/rugby-1-bundesliga-hannover78-tsv-victoria-linden/
LOCATION:Deutscher Sportverein Hannover gegr. 1878 e.V.\, Ferdinand-Wilhelm-Fricke-Weg 2\, Hannover\, 30169
CATEGORIES:Rugby – 1. Herren
ATTACH;FMTTYPE=image/jpeg:https://victoria-linden.de/wp-content/uploads/2023/08/Die-Zebras-2023.jpg
ORGANIZER;CN="Rugby Deutschland":MAILTO:office@rugbydeutschland.org
END:VEVENT
BEGIN:VEVENT
DTSTART;TZID=Europe/Berlin:20240504T110000
DTEND;TZID=Europe/Berlin:20240504T130000
DTSTAMP:20260421T175356
CREATED:20240205T143505Z
LAST-MODIFIED:20240218T190854Z
UID:10000074-1714820400-1714827600@victoria-linden.de
SUMMARY:Rugby U16: SG Hannover Nord United -- Wiedenbrücker TV
DESCRIPTION:
URL:https://victoria-linden.de/termin/rugby-u16-sg-hannover-nord-united-hamburger-rc/
LOCATION:Sportplatz TSV Victoria-Linden e.V.\, Fösseweg 5\, Hannover\, Niedersachsen\, 30453\, Deutschland
CATEGORIES:Rugby – U16
ATTACH;FMTTYPE=image/jpeg:https://victoria-linden.de/wp-content/uploads/2024/02/U16-Spielszene.jpg
ORGANIZER;CN="Rugby Deutschland":MAILTO:office@rugbydeutschland.org
END:VEVENT
BEGIN:VEVENT
DTSTART;TZID=Europe/Berlin:20240427T150000
DTEND;TZID=Europe/Berlin:20240427T173000
DTSTAMP:20260421T175356
CREATED:20230804T061617Z
LAST-MODIFIED:20231121T183052Z
UID:10000025-1714230000-1714239000@victoria-linden.de
SUMMARY:Rugby 1. Bundesliga RC Leipzig : TSV Victoria-Linden
DESCRIPTION:Auswärtsspiel der Zebras in Leipzig – Der Fanbus für Ewachsene Fans ist gebucht. Eine Buchungsliste liegt im Clubhaus zur Anmeldung aus. Wenn ausgebucht dann ausgebucht !
URL:https://victoria-linden.de/termin/rugby-1-bundesliga-rc-leipzig-tsv-victoria-linden/
LOCATION:Rugby Club Leipzig e. V.\, Stahmelner Straße 218\, Leipzig\, 04159\, Deutschland
CATEGORIES:Rugby – 1. Herren
ATTACH;FMTTYPE=image/jpeg:https://victoria-linden.de/wp-content/uploads/2023/08/Die-Zebras-2023.jpg
ORGANIZER;CN="Rugby Deutschland":MAILTO:office@rugbydeutschland.org
END:VEVENT
BEGIN:VEVENT
DTSTART;TZID=Europe/Berlin:20240427T120000
DTEND;TZID=Europe/Berlin:20240504T140000
DTSTAMP:20260421T175356
CREATED:20240205T144417Z
LAST-MODIFIED:20240205T145238Z
UID:10000075-1714219200-1714831200@victoria-linden.de
SUMMARY:Rugby U16: SG Hannover Nord United  --  VfR Döhren
DESCRIPTION:
URL:https://victoria-linden.de/termin/rugby-u16-sg-hannover-nord-united-vfr-doehren/
LOCATION:Deutscher Sportverein Hannover gegr. 1878 e.V.\, Ferdinand-Wilhelm-Fricke-Weg 2\, Hannover\, 30169
CATEGORIES:Rugby – U16
ATTACH;FMTTYPE=image/jpeg:https://victoria-linden.de/wp-content/uploads/2024/02/U16-Spielszene.jpg
ORGANIZER;CN="Rugby Deutschland":MAILTO:office@rugbydeutschland.org
END:VEVENT
BEGIN:VEVENT
DTSTART;TZID=Europe/Berlin:20240414T130000
DTEND;TZID=Europe/Berlin:20240414T143000
DTSTAMP:20260421T175356
CREATED:20240305T105700Z
LAST-MODIFIED:20240324T085742Z
UID:10000086-1713099600-1713105000@victoria-linden.de
SUMMARY:Rugby U18: SG Hannover Nord United -- SG Berlin United
DESCRIPTION:
URL:https://victoria-linden.de/termin/rugby-u18-sg-hannover-nord-united-sg-berlin-united/
LOCATION:Sportplatz TSV Victoria-Linden e.V.\, Fösseweg 5\, Hannover\, Niedersachsen\, 30453\, Deutschland
CATEGORIES:Rugby – U18
ATTACH;FMTTYPE=image/jpeg:https://victoria-linden.de/wp-content/uploads/2024/02/2311xx-U18-web.jpg
ORGANIZER;CN="Rugby Deutschland":MAILTO:office@rugbydeutschland.org
END:VEVENT
BEGIN:VEVENT
DTSTART;TZID=Europe/Berlin:20240413T150000
DTEND;TZID=Europe/Berlin:20240413T173000
DTSTAMP:20260421T175356
CREATED:20230804T061226Z
LAST-MODIFIED:20231121T173520Z
UID:10000024-1713020400-1713029400@victoria-linden.de
SUMMARY:Rugby 1. Bundesliga SC Germania List : TSV Victoria-Linden
DESCRIPTION:Auswärtsspiel der Zebras in Hannover
URL:https://victoria-linden.de/termin/rugby-1-bundesliga-sc-germania-list-tsv-victoria-linden/
LOCATION:SC Germania List von 1900 e.V. Hannover\, Schneckenburgerstrasse 22 G\, Hannover\, 30177
CATEGORIES:Rugby – 1. Herren
ATTACH;FMTTYPE=image/jpeg:https://victoria-linden.de/wp-content/uploads/2023/08/Die-Zebras-2023.jpg
ORGANIZER;CN="Rugby Deutschland":MAILTO:office@rugbydeutschland.org
END:VEVENT
BEGIN:VEVENT
DTSTART;TZID=Europe/Berlin:20240406T140000
DTEND;TZID=Europe/Berlin:20240406T163000
DTSTAMP:20260421T175356
CREATED:20230804T060740Z
LAST-MODIFIED:20231121T173501Z
UID:10000023-1712412000-1712421000@victoria-linden.de
SUMMARY:Rugby 1. Bundesliga TSV Victoria-Linden : Hamburger RC
DESCRIPTION:Heimspiel der Zebras am Fösseweg
URL:https://victoria-linden.de/termin/rugby-1-bundesliga-tsv-victoria-linden-hamburger-rc/
LOCATION:Sportplatz TSV Victoria-Linden e.V.\, Fösseweg 5\, Hannover\, Niedersachsen\, 30453\, Deutschland
CATEGORIES:Rugby – 1. Herren
ATTACH;FMTTYPE=image/jpeg:https://victoria-linden.de/wp-content/uploads/2023/08/Die-Zebras-2023.jpg
ORGANIZER;CN="Rugby Deutschland":MAILTO:office@rugbydeutschland.org
END:VEVENT
BEGIN:VEVENT
DTSTART;TZID=Europe/Berlin:20240406T120000
DTEND;TZID=Europe/Berlin:20240406T140000
DTSTAMP:20260421T175356
CREATED:20240201T172932Z
LAST-MODIFIED:20240205T144226Z
UID:10000073-1712404800-1712412000@victoria-linden.de
SUMMARY:Rugby U16: SG Hannover Nord United -- Hamburger RC
DESCRIPTION:
URL:https://victoria-linden.de/termin/rugby-u16-sg-hannover-nord-united-fc-st-pauli/
LOCATION:SV Odin von 1905 e.V.\, An der Graft 1\, Hannover\, 30167
CATEGORIES:Rugby – U16
ATTACH;FMTTYPE=image/jpeg:https://victoria-linden.de/wp-content/uploads/2024/02/U16-Spielszene.jpg
ORGANIZER;CN="Rugby Deutschland":MAILTO:office@rugbydeutschland.org
END:VEVENT
BEGIN:VEVENT
DTSTART;TZID=Europe/Berlin:20240323T140000
DTEND;TZID=Europe/Berlin:20240323T163000
DTSTAMP:20260421T175356
CREATED:20230804T060603Z
LAST-MODIFIED:20231121T172453Z
UID:10000022-1711202400-1711211400@victoria-linden.de
SUMMARY:Rugby 1. Bundesliga TSV Victoria-Linden : RK 03 Berlin
DESCRIPTION:Heimspiel der Zebras am Fösseweg
URL:https://victoria-linden.de/termin/rugby-1-bundesliga-tsv-victoria-linden-rk-03-berlin/
LOCATION:Sportplatz TSV Victoria-Linden e.V.\, Fösseweg 5\, Hannover\, Niedersachsen\, 30453\, Deutschland
CATEGORIES:Rugby – 1. Herren
ATTACH;FMTTYPE=image/jpeg:https://victoria-linden.de/wp-content/uploads/2023/08/Die-Zebras-2023.jpg
ORGANIZER;CN="Rugby Deutschland":MAILTO:office@rugbydeutschland.org
END:VEVENT
BEGIN:VEVENT
DTSTART;TZID=Europe/Berlin:20240309T120000
DTEND;TZID=Europe/Berlin:20240309T140000
DTSTAMP:20260421T175356
CREATED:20240201T172745Z
LAST-MODIFIED:20240201T172745Z
UID:10000072-1709985600-1709992800@victoria-linden.de
SUMMARY:Rugby U16: SG Köln/Bonn - SG Hannover Nord United
DESCRIPTION:
URL:https://victoria-linden.de/termin/rugby-u16-sg-koeln-bonn-sg-hannover-nord-united/
LOCATION:Rugby Sport Verein Köln e.V.\, Wankelstraße 9\, Köln\, Nordrhein-Westfalen\, 50996\, Deutschland
CATEGORIES:Rugby – U16
ATTACH;FMTTYPE=image/jpeg:https://victoria-linden.de/wp-content/uploads/2024/02/U16-Spielszene.jpg
ORGANIZER;CN="Rugby Deutschland":MAILTO:office@rugbydeutschland.org
END:VEVENT
BEGIN:VEVENT
DTSTART;TZID=Europe/Berlin:20240303T130000
DTEND;TZID=Europe/Berlin:20240303T143000
DTSTAMP:20260421T175356
CREATED:20240305T103639Z
LAST-MODIFIED:20240305T104332Z
UID:10000083-1709470800-1709476200@victoria-linden.de
SUMMARY:Rugby U18: SG Heidelberger RK / RK Heusenstamm / RC Worms  --  SG Hannover Nord United
DESCRIPTION:
URL:https://victoria-linden.de/termin/rugby-u18-sg-heidelberger-rk-rk-heusenstamm-rc-worms-sg-hannover-nord-united/
LOCATION:Heidelberger RK\, Neuenheimer Landstr. 3a\, Heidelberg\, 69120\, Deutschland
CATEGORIES:Rugby – U18
ATTACH;FMTTYPE=image/jpeg:https://victoria-linden.de/wp-content/uploads/2024/02/2311xx-U18-web.jpg
ORGANIZER;CN="Rugby Deutschland":MAILTO:office@rugbydeutschland.org
END:VEVENT
END:VCALENDAR