BEGIN:VCALENDAR
VERSION:2.0
PRODID:-//TSV Victoria Linden e.V. - Hannover - ECPv6.15.20//NONSGML v1.0//EN
CALSCALE:GREGORIAN
METHOD:PUBLISH
X-WR-CALNAME:TSV Victoria Linden e.V. - Hannover
X-ORIGINAL-URL:https://victoria-linden.de
X-WR-CALDESC:Veranstaltungen für TSV Victoria Linden e.V. - Hannover
REFRESH-INTERVAL;VALUE=DURATION:PT1H
X-Robots-Tag:noindex
X-PUBLISHED-TTL:PT1H
BEGIN:VTIMEZONE
TZID:Europe/Berlin
BEGIN:DAYLIGHT
TZOFFSETFROM:+0100
TZOFFSETTO:+0200
TZNAME:CEST
DTSTART:20220327T010000
END:DAYLIGHT
BEGIN:STANDARD
TZOFFSETFROM:+0200
TZOFFSETTO:+0100
TZNAME:CET
DTSTART:20221030T010000
END:STANDARD
BEGIN:DAYLIGHT
TZOFFSETFROM:+0100
TZOFFSETTO:+0200
TZNAME:CEST
DTSTART:20230326T010000
END:DAYLIGHT
BEGIN:STANDARD
TZOFFSETFROM:+0200
TZOFFSETTO:+0100
TZNAME:CET
DTSTART:20231029T010000
END:STANDARD
BEGIN:DAYLIGHT
TZOFFSETFROM:+0100
TZOFFSETTO:+0200
TZNAME:CEST
DTSTART:20240331T010000
END:DAYLIGHT
BEGIN:STANDARD
TZOFFSETFROM:+0200
TZOFFSETTO:+0100
TZNAME:CET
DTSTART:20241027T010000
END:STANDARD
END:VTIMEZONE
BEGIN:VEVENT
DTSTART;TZID=Europe/Berlin:20231021T140000
DTEND;TZID=Europe/Berlin:20231021T163000
DTSTAMP:20260421T230636
CREATED:20230804T053647Z
LAST-MODIFIED:20231121T172629Z
UID:10000021-1697896800-1697905800@victoria-linden.de
SUMMARY:Rugby 1. Bundesliga TSV Victoria-Linden : Hannover 78
DESCRIPTION:Heimspiel der Zebras am Fösseweg
URL:https://victoria-linden.de/termin/rugby-1-bundesliga-tsv-victoria-linden-hannover-78/
LOCATION:Sportplatz TSV Victoria-Linden e.V.\, Fösseweg 5\, Hannover\, Niedersachsen\, 30453\, Deutschland
CATEGORIES:Rugby – 1. Herren
ATTACH;FMTTYPE=image/jpeg:https://victoria-linden.de/wp-content/uploads/2023/08/Die-Zebras-2023.jpg
ORGANIZER;CN="Rugby Deutschland":MAILTO:office@rugbydeutschland.org
END:VEVENT
BEGIN:VEVENT
DTSTART;TZID=Europe/Berlin:20231014T160000
DTEND;TZID=Europe/Berlin:20231014T180000
DTSTAMP:20260421T230636
CREATED:20230804T053528Z
LAST-MODIFIED:20231121T173305Z
UID:10000020-1697299200-1697306400@victoria-linden.de
SUMMARY:Rugby 1. Bundesliga TSV Victoria-Linden : RC Leipzig
DESCRIPTION:Heimspiel der Zebras am Fösseweg
URL:https://victoria-linden.de/termin/rugby-1-bundesliga-tsv-victoria-linden-rc-leipzig/
LOCATION:Sportplatz TSV Victoria-Linden e.V.\, Fösseweg 5\, Hannover\, Niedersachsen\, 30453\, Deutschland
CATEGORIES:Rugby – 1. Herren
ATTACH;FMTTYPE=image/jpeg:https://victoria-linden.de/wp-content/uploads/2023/08/Die-Zebras-2023.jpg
ORGANIZER;CN="Rugby Deutschland":MAILTO:office@rugbydeutschland.org
END:VEVENT
BEGIN:VEVENT
DTSTART;TZID=Europe/Berlin:20230930T150000
DTEND;TZID=Europe/Berlin:20230930T173000
DTSTAMP:20260421T230636
CREATED:20230804T052353Z
LAST-MODIFIED:20231121T173111Z
UID:10000017-1696086000-1696095000@victoria-linden.de
SUMMARY:Rugby 1. Bundesliga TSV Victoria-Linden : SC Germania List
DESCRIPTION:Heimspiel der Zebras am Fösseweg
URL:https://victoria-linden.de/termin/rugby-1-bundesliga-tsv-victoria-linden-sc-germania-list/
LOCATION:Sportplatz TSV Victoria-Linden e.V.\, Fösseweg 5\, Hannover\, Niedersachsen\, 30453\, Deutschland
CATEGORIES:Rugby – 1. Herren
ATTACH;FMTTYPE=image/jpeg:https://victoria-linden.de/wp-content/uploads/2023/08/Die-Zebras-2023.jpg
ORGANIZER;CN="Rugby Deutschland":MAILTO:office@rugbydeutschland.org
END:VEVENT
BEGIN:VEVENT
DTSTART;TZID=Europe/Berlin:20230923T150000
DTEND;TZID=Europe/Berlin:20230923T173000
DTSTAMP:20260421T230636
CREATED:20230804T052124Z
LAST-MODIFIED:20231121T173046Z
UID:10000016-1695481200-1695490200@victoria-linden.de
SUMMARY:Rugby 1. Bundesliga Hamburger RC : TSV Victoria-Linden
DESCRIPTION:Auswärtsspiel der Zebras in Hamburg
URL:https://victoria-linden.de/termin/1-bundesliga-hamburger-rc-tsv-victoria-linden/
LOCATION:HAMBURGER RUGBY-CLUB VON 1950 E.V.\, Saarlandstraße 71\, Hamburg\, 22303
CATEGORIES:Rugby – 1. Herren
ATTACH;FMTTYPE=image/jpeg:https://victoria-linden.de/wp-content/uploads/2023/08/Die-Zebras-2023.jpg
ORGANIZER;CN="Rugby Deutschland":MAILTO:office@rugbydeutschland.org
END:VEVENT
BEGIN:VEVENT
DTSTART;TZID=Europe/Berlin:20230909T150000
DTEND;TZID=Europe/Berlin:20230909T173000
DTSTAMP:20260421T230636
CREATED:20230804T051637Z
LAST-MODIFIED:20231121T173018Z
UID:10000015-1694271600-1694280600@victoria-linden.de
SUMMARY:Rugby 1. Bundesliga RK 03 Berlin : TSV Victoria-Linden
DESCRIPTION:Auswärtsspiel der Zebras in Berlin
URL:https://victoria-linden.de/termin/1-bundesliga-rk-03-berlin-tsv-victoria-linden/
LOCATION:Rugby Klub 03 Berlin e.V.\, Hansastraße 190\, Berlin\, 13088
CATEGORIES:Rugby – 1. Herren
ATTACH;FMTTYPE=image/jpeg:https://victoria-linden.de/wp-content/uploads/2023/08/Die-Zebras-2023.jpg
ORGANIZER;CN="Rugby Deutschland":MAILTO:office@rugbydeutschland.org
END:VEVENT
BEGIN:VEVENT
DTSTART;TZID=Europe/Berlin:20230902T140000
DTEND;TZID=Europe/Berlin:20230902T163000
DTSTAMP:20260421T230636
CREATED:20230804T050343Z
LAST-MODIFIED:20231121T172815Z
UID:10000014-1693663200-1693672200@victoria-linden.de
SUMMARY:Rugby 1. Bundesliga TSV Victoria-Linden : Berliner RC
DESCRIPTION:Saisonauftakt unserer Zebras auf unserem Sportgelände am Fösseweg
URL:https://victoria-linden.de/termin/bundesliga-tsv-victoria-linden-berliner-rc/
LOCATION:Sportplatz TSV Victoria-Linden e.V.\, Fösseweg 5\, Hannover\, Niedersachsen\, 30453\, Deutschland
CATEGORIES:Rugby – 1. Herren
ATTACH;FMTTYPE=image/jpeg:https://victoria-linden.de/wp-content/uploads/2023/08/Die-Zebras-2023.jpg
ORGANIZER;CN="Rugby Deutschland":MAILTO:office@rugbydeutschland.org
END:VEVENT
END:VCALENDAR