BEGIN:VCALENDAR
VERSION:2.0
PRODID:-//TSV Victoria Linden e.V. - Hannover - ECPv6.15.20//NONSGML v1.0//EN
CALSCALE:GREGORIAN
METHOD:PUBLISH
X-WR-CALNAME:TSV Victoria Linden e.V. - Hannover
X-ORIGINAL-URL:https://victoria-linden.de
X-WR-CALDESC:Veranstaltungen für TSV Victoria Linden e.V. - Hannover
REFRESH-INTERVAL;VALUE=DURATION:PT1H
X-Robots-Tag:noindex
X-PUBLISHED-TTL:PT1H
BEGIN:VTIMEZONE
TZID:Europe/Berlin
BEGIN:DAYLIGHT
TZOFFSETFROM:+0100
TZOFFSETTO:+0200
TZNAME:CEST
DTSTART:20220327T010000
END:DAYLIGHT
BEGIN:STANDARD
TZOFFSETFROM:+0200
TZOFFSETTO:+0100
TZNAME:CET
DTSTART:20221030T010000
END:STANDARD
BEGIN:DAYLIGHT
TZOFFSETFROM:+0100
TZOFFSETTO:+0200
TZNAME:CEST
DTSTART:20230326T010000
END:DAYLIGHT
BEGIN:STANDARD
TZOFFSETFROM:+0200
TZOFFSETTO:+0100
TZNAME:CET
DTSTART:20231029T010000
END:STANDARD
BEGIN:DAYLIGHT
TZOFFSETFROM:+0100
TZOFFSETTO:+0200
TZNAME:CEST
DTSTART:20240331T010000
END:DAYLIGHT
BEGIN:STANDARD
TZOFFSETFROM:+0200
TZOFFSETTO:+0100
TZNAME:CET
DTSTART:20241027T010000
END:STANDARD
BEGIN:DAYLIGHT
TZOFFSETFROM:+0100
TZOFFSETTO:+0200
TZNAME:CEST
DTSTART:20250330T010000
END:DAYLIGHT
BEGIN:STANDARD
TZOFFSETFROM:+0200
TZOFFSETTO:+0100
TZNAME:CET
DTSTART:20251026T010000
END:STANDARD
END:VTIMEZONE
BEGIN:VEVENT
DTSTART;TZID=Europe/Berlin:20240120T172000
DTEND;TZID=Europe/Berlin:20240120T192000
DTSTAMP:20260420T123220
CREATED:20231126T145530Z
LAST-MODIFIED:20231126T145530Z
UID:10000045-1705771200-1705778400@victoria-linden.de
SUMMARY:Korbball Altersklasse 14/15
DESCRIPTION:Spiele gegen den TB Stöcken und den TSV Ingeln-Oesselse I
URL:https://victoria-linden.de/termin/korbball-altersklasse-14-15/
LOCATION:TSV Ingeln-Oesselse\, Bergstraße 24\, Laatzen\, Niedersachsen\, 30880\, Deutschland
CATEGORIES:Korbball
END:VEVENT
BEGIN:VEVENT
DTSTART;TZID=Europe/Berlin:20231210T132000
DTEND;TZID=Europe/Berlin:20231210T152000
DTSTAMP:20260420T123220
CREATED:20231126T140734Z
LAST-MODIFIED:20231126T142508Z
UID:10000040-1702214400-1702221600@victoria-linden.de
SUMMARY:Korbball Damen 2 (Verbandsliga)
DESCRIPTION:Spiele gegen den TSV Ingeln-Oesselse II und den TuS Vahrenwald
URL:https://victoria-linden.de/termin/korbball-damen-2-verbandsliga/
LOCATION:TSV Ingeln-Oesselse\, Bergstraße 24\, Laatzen\, Niedersachsen\, 30880\, Deutschland
CATEGORIES:Korbball
END:VEVENT
END:VCALENDAR